Workbook
Name OLE_LINK2: Dades!$A$12

Sheet Dades
A6: Sol·licitud de recursos
A7: Formulari associat
A8: Trofeus i medalles
A10: Més informació a https://seuelectronica.diba.cat/tramits-ens/concertacio/
A12: Aquesta fitxa té dues pestanyes (Dades i Gravació) i és necessari omplir-les totes dues
A13: Dades identificatives
B14: IMPORTANT: Detalleu el text de les gravacions al full Gravació (següent pestanya)
A15: 0800180001 | B15: Abrera, Ajuntament de
A16: 9801560009 | B16: Agència de Desenvolupament del Berguedà
A17: 0800230008 | B17: Aguilar de Segarra, Ajuntament de
A18: 0801420002 | B18: Aiguafreda, Ajuntament de
A19: 0800390004 | B19: Alella, Ajuntament d'
A20: 0800440003 | B20: Alpens, Ajuntament d'
A21: 0800570005 | B21: Ametlla del Vallès, Ajuntament de l'
A22: 0800600000 | B22: Arenys de Mar, Ajuntament de
A23: 0800760009 | B23: Arenys de Munt, Ajuntament de
A24: 0800820002 | B24: Argençola, Ajuntament de
A25: 0800950006 | B25: Argentona, Ajuntament d'
A26: 0801090004 | B26: Artés, Ajuntament d'
... A121: 0807870005 | B121: Espunyola, Ajuntament de l'
A122: 825410007 | B122: Esquirol, Ajuntament de l'
A123: 0807900000 | B123: Estany, Ajuntament de l'
A124: 0813470005 | B124: Figaró-Montmany, Ajuntament de
A125: 0808040003 | B125: Fígols, Ajuntament de
A126: 0808260009 | B126: Fogars de la Selva, Ajuntament de
A127: 0808110007 | B127: Fogars de Montclús, Ajuntament de
A128: 0808320002 | B128: Folgueroles, Ajuntament de
A129: 0808470005 | B129: Fonollosa, Ajuntament de
A130: 0808500000 | B130: Font-rubí, Ajuntament de
A131: 0808630008 | B131: Franqueses del Vallès, Ajuntament de les
A132: 0809020002 | B132: Gaià, Ajuntament de
A133: 0808790004 | B133: Gallifa, Ajuntament de
A134: 0808850006 | B134: Garriga, Ajuntament de la
... A159: 9008470005 | B159: Mancomunitat Intermunicipal Voluntària Segarrenca
B160: Mancomunitat de Municipis de la Comarca del Lluçanès
A161: 0811200000 | B161: Manlleu, Ajuntament de
A162: 0811360009 | B162: Manresa, Ajuntament de
A163: 0824230008 | B163: Marganell, Ajuntament de
A164: 0811410007 | B164: Martorell, Ajuntament de
A165: 0811540003 | B165: Martorelles, Ajuntament de
A166: 0811670005 | B166: Masies de Roda, Ajuntament de les
A167: 0811730008 | B167: Masies de Voltregà, Ajuntament de les
A168: 0811890004 | B168: Masnou, Ajuntament de
A169: 0811920002 | B169: Masquefa, Ajuntament de
A170: 0812060009 | B170: Matadepera, Ajuntament de
A171: 0812130008 | B171: Mataró, Ajuntament de
A172: 0812280001 | B172: Mediona, Ajuntament de
... A354: 0830890004 | B354: Viver i Serrateix, Ajuntament de
A355: Ens local:
A356: Dades de l'entitat organitzadora
A358: Nom/raó social:
A360: CIF:
A362: Persona de contacte:
A364: Càrrec:
A366: Telèfon de contacte:
A368: Adreça electrònica:
A369: Dades de l'actuació
A371: 1. Activitat
A372: Nom de l'activitat:
A374: Data de l'activitat:
... A403: Observacions

Sheet Gravació
A6: Sol·licitud de recursos
A7: Formulari associat
A8: Cessió de trofeus i medalles
A10: Més informació a https://seuelectronica.diba.cat/tramits-ens/concertacio/
A12: Aquesta fitxa té dues pestanyes (Dades i Gravació) i és necessari omplir-les totes dues
A14: Ens sol·licitant: | D14: Nom de l'activitat:
A16: Data de l'activitat: | B16: =IF(Dades!B374="","",Dades!B374) | D16: Nom i telèfon per consultes sobre la gravació
A18: El text a gravar en els trofeus i/o medalles ha d’incloure com a mínim el nom de l’activitat, el municipi i l'any. En el cas dels trofeus també pot incloure les categories i la data concreta de celebració.
A19: Trofeus. Text de gravació
C20: Primera línia | D20: Segona línea | E20: Tercera línia | F20: Quarta línia | G20: Quarta línia | H20: Número a la base del trofeu
B21: Quantitat | C21: Nom de l'activitat | E21: Classificació | F21: Municipi | G21: Any
A22: Gravació 1
A23: Gravació 2
A24: Gravació 3
A25: Gravació 4
A26: Gravació 5
A27: Gravació 6
A28: Gravació 7
A29: Gravació 8
A30: Gravació 9
A31: Gravació 10
A32: Gravació 11
A33: Gravació 12
A34: TOTAL | B34: =SUM(B22:B33) -> 0
A36: Medalles. Text de gravació
C37: Primera línia | D37: Segona línia | F37: Tercera línia | G37: Tercera línia
B38: Quantitat | C38: Nom de l'activitat | F38: Municipi | G38: Any
A39: Gravació

Sheet any
A1: 2026
A2: 2027

Sheet ens
A1: Ajuntament d'Abrera
A2: Ajuntament d'Aguilar de Segarra
A3: Ajuntament d'Aiguafreda
A4: Ajuntament d'Alella
A5: Ajuntament d'Alpens
A6: Ajuntament d'Arenys de Mar
A7: Ajuntament d'Arenys de Munt
A8: Ajuntament d'Argençola
A9: Ajuntament d'Argentona
A10: Ajuntament d'Artés
A11: Ajuntament d'Avià
A12: Ajuntament d'Avinyó
... A342: Consorci per a la Defensa de la Conca del Riu Besòs

Sheet municipis
A1: Abrera
A2: Aguilar de Segarra
A3: Aiguafreda
A4: Alella
A5: Alpens
A6: Arenys de Mar
A7: Arenys de Munt
A8: Argençola
A9: Argentona
A10: Artés
A11: Avià
A12: Avinyó
... A315: Entitat Municipal Descentralitzada de Valldoreix

Sheet Llistes
A1: SÍ
A2: NO

Sheet GESTEL
A1: Expedient_PMT | B1: Ens_Solicitant | C1: Nom_Organitzadora | D1: CIF_Organitzadora | E1: Contacte_Organitzadora | F1: Carrec_Organitzadora | G1: Telefon_Organitzadora | H1: Mail_Organitzadora | I1: Nom_Activitat | J1: Data_Activitat | K1: Nombre_Trofeus | L1: Nombre_Medalles | M1: Solicitud_Enviament | N1: Entitat_Enviament | O1: Adreça_Enviament | P1: Codi_Postal_Enviament | Q1: Contacte_Enviament | R1: Telefon_Enviament | S1: Mail_Enviament | T1: Horari_Enviament | U1: Gravació_Trofeus | V1: Activitat_Trofeus | W1: Classificació_Trofeus | X1: Municipi_Trofeus | Y1: Data_Trofeus | Z1: Gravació_Medalles | AA1: Activitat_Medalles | AB1: Municipi_Medalles | AC1: Data_Medalles
B2: =Dades!B355 -> 0 | C2: =Dades!B358 -> 0 | D2: =Dades!B360 -> 0 | E2: =Dades!B362 -> 0 | F2: =Dades!B364 -> 0 | G2: =Dades!B366 -> 0 | H2: =Dades!B368 -> 0 | I2: =Dades!B372 -> 0 | J2: =Dades!B374 -> 0 | K2: =Dades!B376 -> 0 | L2: =Dades!B378 -> 0 | M2: =Dades!B382 -> 0 | N2: =Dades!B384 -> 0 | O2: =Dades!B386 -> 0 | P2: =Dades!B388 -> 0 | Q2: =Dades!B390 -> 0 | R2: =Dades!B392 -> 0 | S2: =Dades!B394 -> 0 | T2: =Dades!B396 -> 0 | U2: =Gravació!#REF! -> #REF! | V2: =Gravació!#REF! -> #REF! | W2: =Gravació!#REF! -> #REF! | X2: =Gravació!#REF! -> #REF! | Y2: =Gravació!#REF! -> #REF! | Z2: =Gravació!#REF! -> #REF! | AA2: =Gravació!#REF! -> #REF! | AB2: =Gravació!#REF! -> #REF! | AC2: =Gravació!#REF! -> #REF!
U3: =Gravació!#REF! -> #REF! | V3: =Gravació!#REF! -> #REF! | W3: =Gravació!#REF! -> #REF! | X3: =Gravació!#REF! -> #REF! | Y3: =Gravació!#REF! -> #REF!
U4: =Gravació!#REF! -> #REF! | V4: =Gravació!#REF! -> #REF! | W4: =Gravació!#REF! -> #REF! | X4: =Gravació!#REF! -> #REF! | Y4: =Gravació!#REF! -> #REF!
U5: =Gravació!#REF! -> #REF! | V5: =Gravació!#REF! -> #REF! | W5: =Gravació!#REF! -> #REF! | X5: =Gravació!#REF! -> #REF! | Y5: =Gravació!#REF! -> #REF!
U6: =Gravació!#REF! -> #REF! | V6: =Gravació!#REF! -> #REF! | W6: =Gravació!#REF! -> #REF! | X6: =Gravació!#REF! -> #REF! | Y6: =Gravació!#REF! -> #REF!
U7: =Gravació!#REF! -> #REF! | V7: =Gravació!#REF! -> #REF! | W7: =Gravació!#REF! -> #REF! | X7: =Gravació!#REF! -> #REF! | Y7: =Gravació!#REF! -> #REF!
U8: =Gravació!#REF! -> #REF! | V8: =Gravació!#REF! -> #REF! | W8: =Gravació!#REF! -> #REF! | X8: =Gravació!#REF! -> #REF! | Y8: =Gravació!#REF! -> #REF!
U9: =Gravació!#REF! -> #REF! | V9: =Gravació!#REF! -> #REF! | W9: =Gravació!#REF! -> #REF! | X9: =Gravació!#REF! -> #REF! | Y9: =Gravació!#REF! -> #REF!
U10: =Gravació!#REF! -> #REF! | V10: =Gravació!#REF! -> #REF! | W10: =Gravació!#REF! -> #REF! | X10: =Gravació!#REF! -> #REF! | Y10: =Gravació!#REF! -> #REF!
U11: =Gravació!#REF! -> #REF! | V11: =Gravació!#REF! -> #REF! | W11: =Gravació!#REF! -> #REF! | X11: =Gravació!#REF! -> #REF! | Y11: =Gravació!#REF! -> #REF!
U12: =Gravació!#REF! -> #REF! | V12: =Gravació!#REF! -> #REF! | W12: =Gravació!#REF! -> #REF! | X12: =Gravació!#REF! -> #REF! | Y12: =Gravació!#REF! -> #REF!
U13: =Gravació!#REF! -> #REF! | V13: =Gravació!#REF! -> #REF! | W13: =Gravació!#REF! -> #REF! | X13: =Gravació!#REF! -> #REF! | Y13: =Gravació!#REF! -> #REF!
