Workbook

Sheet Gener
A1: 46388 | K1: 1 | L1: ENERO
C2: Gener 2027 | K2: 2 | L2: FEBRERO
K3: 3 | L3: MARZO
C4: Dilluns | D4: Dimarts | E4: Dimecres | F4: Dijous | G4: Divendres | H4: Dissabte | I4: Diumenge | K4: 4 | L4: ABRIL
C5: =IF(WEEKDAY($A$1)=2,1,"") | D5: =IF(C5<>"",C5+1,IF(WEEKDAY($A$1)=3,1,"")) | E5: =IF(D5<>"",D5+1,IF(WEEKDAY($A$1)=4,1,"")) | F5: =IF(E5<>"",E5+1,IF(WEEKDAY($A$1)=5,1,"")) | G5: =IF(F5<>"",F5+1,IF(WEEKDAY($A$1)=6,1,"")) -> 1 | H5: =IF(G5<>"",G5+1,IF(WEEKDAY($A$1)=7,1,"")) -> 2 | I5: =IF(H5<>"",H5+1,IF(WEEKDAY($A$1)=1,1,"")) -> 3 | K5: 5 | L5: MAYO
K6: 6 | L6: JUNIO
C7: =DAY(I5+$A$1) -> 4 | D7: =DAY(C7+1) -> 5 | E7: =DAY(D7+1) -> 6 | F7: =DAY(E7+1) -> 7 | G7: =DAY(F7+1) -> 8 | H7: =DAY(G7+1) -> 9 | I7: =DAY(H7+1) -> 10 | J7: Efemèrides | K7: 7 | L7: JULIO
G8: 75 anys del naixement de Montse Ginesta. Il·lustradora, dibuixant i escriptora | K8: 8 | L8: AGOSTO
C9: =DAY(I7+$A$1) -> 11 | D9: =DAY(C9+1) -> 12 | E9: =DAY(D9+1) -> 13 | F9: =DAY(E9+1) -> 14 | G9: =DAY(F9+1) -> 15 | H9: =DAY(G9+1) -> 16 | I9: =DAY(H9+1) -> 17 | J9: Dia internacional | K9: 9 | L9: SEPTIEMBRE
E10: Dia Mundial de la lluita contra la Depressió | F10: 50 anys de la mort d' Anaïs Nin. Escriptora | I10: 25 anys de la mort de Camilo José Cela. Escriptor | K10: 10 | L10: OCTUBRE
C11: =DAY(I9+$A$1) -> 18 | D11: =DAY(C11+1) -> 19 | E11: =DAY(D11+1) -> 20 | F11: =DAY(E11+1) -> 21 | G11: =DAY(F11+1) -> 22 | H11: =DAY(G11+1) -> 23 | I11: =DAY(H11+1) -> 24 | J11: Premis literaris | K11: 11 | L11: NOVIEMBRE
E12: 75 anys del naixement de Joan Barril. Escriptor i periodista | I12: Dia Internacional de Commemoració anual en memòria de les víctimes de l'Holocaust | K12: 12 | L12: DICIEMBRE
C13: =IF(I11="","",IF(DAY(I11+$A$1)<I11,"",DAY(I11+$A$1))) -> 25 | D13: =IF(C13="","",IF(DAY(C13+$A$1)<C13,"",DAY(C13+$A$1))) -> 26 | E13: =IF(D13="","",IF(DAY(D13+$A$1)<D13,"",DAY(D13+$A$1))) -> 27 | F13: =IF(E13="","",IF(DAY(E13+$A$1)<E13,"",DAY(E13+$A$1))) -> 28 | G13: =IF(F13="","",IF(DAY(F13+$A$1)<F13,"",DAY(F13+$A$1))) -> 29 | H13: =IF(G13="","",IF(DAY(G13+$A$1)<G13,"",DAY(G13+$A$1))) -> 30 | I13: =IF(H13="","",IF(DAY(H13+$A$1)<H13,"",DAY(H13+$A$1))) -> 31 | J13: Fires de llibre i còmic
C14: 100 anys del naixement d' Antônio Carlos Jobim. Cantautor brasiler | D14: Dia Mundial de l'Educació Ambiental | F14: 25 anys de la mort d' Astrid Lindgren. Escriptora
C15: =IF(I13="","",IF(DAY(I13+$A$1)<I13,"",DAY(I13+$A$1))) | D15: =IF(C15="","",IF(DAY(C15+$A$1)<C15,"",DAY(C15+$A$1))) | E15: =IF(D15="","",IF(DAY(D15+$A$1)<D15,"",DAY(D15+$A$1))) | F15: =IF(E15="","",IF(DAY(E15+$A$1)<E15,"",DAY(E15+$A$1))) | G15: =IF(F15="","",IF(DAY(F15+$A$1)<F15,"",DAY(F15+$A$1))) | H15: =IF(G15="","",IF(DAY(G15+$A$1)<G15,"",DAY(G15+$A$1))) | I15: =IF(H15="","",IF(DAY(H15+$A$1)<H15,"",DAY(H15+$A$1))) | J15: Esdeveniments
C17: Altres esdeveniments al llarg del mes: | J17: Esdeveniments
C18: Premio Nadal
C20: Premi Josep Pla
C22: Premi Ramon Llull de les Lletres Catalanes

Sheet Febrer
A1: =DATE(YEAR(Gener!A1),MONTH(Gener!A1)+1,1) -> 46419 | K1: 1 | L1: ENERO
C2: Febrer 2027 | K2: 2 | L2: FEBRERO
K3: 3 | L3: MARZO
C4: Dilluns | D4: Dimarts | E4: Dimecres | F4: Dijous | G4: Divendres | H4: Dissabte | I4: Diumenge | K4: 4 | L4: ABRIL
C5: =IF(WEEKDAY($A$1)=2,1,"") -> 1 | D5: =IF(C5<>"",C5+1,IF(WEEKDAY($A$1)=3,1,"")) -> 2 | E5: =IF(D5<>"",D5+1,IF(WEEKDAY($A$1)=4,1,"")) -> 3 | F5: =IF(E5<>"",E5+1,IF(WEEKDAY($A$1)=5,1,"")) -> 4 | G5: =IF(F5<>"",F5+1,IF(WEEKDAY($A$1)=6,1,"")) -> 5 | H5: =IF(G5<>"",G5+1,IF(WEEKDAY($A$1)=7,1,"")) -> 6 | I5: =IF(H5<>"",H5+1,IF(WEEKDAY($A$1)=1,1,"")) -> 7 | K5: 5 | L5: MAYO
D6: 100 del naixement de Stan Getz. Saxofonista | I6: 100 del naixement de Juliette Gréco. Cantant | K6: 6 | L6: JUNIO
C7: =DAY(I5+$A$1) -> 8 | D7: =DAY(C7+1) -> 9 | E7: =DAY(D7+1) -> 10 | F7: =DAY(E7+1) -> 11 | G7: =DAY(F7+1) -> 12 | H7: =DAY(G7+1) -> 13 | I7: =DAY(H7+1) -> 14 | J7: Efemèrides | K7: 7 | L7: JULIO
F8: Dia Internacional de la Dona i la Nena a la Ciència | G8: Dia Mundial contra l'ús dels nens soldat | H8: Dia Mundial de la ràdio | K8: 8 | L8: AGOSTO
J9: Dia internacional
F10: 100 del naixement de de Pere Portabella. Director de cinema
C11: =DAY(I7+$A$1) -> 15 | D11: =DAY(C11+1) -> 16 | E11: =DAY(D11+1) -> 17 | F11: =DAY(E11+1) -> 18 | G11: =DAY(F11+1) -> 19 | H11: =DAY(G11+1) -> 20 | I11: =DAY(H11+1) -> 21 | J11: Premis literaris | K11: 9 | L11: SEPTIEMBRE
C12: 50 anys del naixement de Lena Paüls i Obré. Escriptora, filòloga i crítica literària. | F12: 75 anys de la mort d' Enrique Jardiel Poncela. Escriptor i dramaturg. | G12: 75 anys de la mort de Knut Hamsun. Escriptor norueg. | H12: Dia Mundial de la Justícia Social | I12: Dia internacional de la llengua materna | K12: 10 | L12: OCTUBRE
J13: Fires de llibre i còmic
H14: 100 anys del naixement de Sidney Poitier. Actor.
C15: =DAY(I11+$A$1) -> 22 | D15: =DAY(C15+1) -> 23 | E15: =DAY(D15+1) -> 24 | F15: =DAY(E15+1) -> 25 | G15: =DAY(F15+1) -> 26 | H15: =DAY(G15+1) -> 27 | I15: =DAY(H15+1) -> 28 | J15: Esdeveniments | K15: 11 | L15: NOVIEMBRE
G16: 225 anys del naixement de Víctor Hugo. Escriptor. | H16: 125 anys del naixement de John Steinbeck. Escriptor. | K16: 12 | L16: DICIEMBRE
C17: =IF(I15="","",IF(DAY(I15+$A$1)<I15,"",DAY(I15+$A$1))) | D17: =IF(C17="","",IF(DAY(C17+$A$1)<C17,"",DAY(C17+$A$1))) | E17: =IF(D17="","",IF(DAY(D17+$A$1)<D17,"",DAY(D17+$A$1))) | F17: =IF(E17="","",IF(DAY(E17+$A$1)<E17,"",DAY(E17+$A$1))) | G17: =IF(F17="","",IF(DAY(F17+$A$1)<F17,"",DAY(F17+$A$1))) | H17: =IF(G17="","",IF(DAY(G17+$A$1)<G17,"",DAY(G17+$A$1))) | I17: =IF(H17="","",IF(DAY(H17+$A$1)<H17,"",DAY(H17+$A$1))) | J17: Efemèrides
C19: =IF(I17="","",IF(DAY(I17+$A$1)<I17,"",DAY(I17+$A$1))) | D19: =IF(C19="","",IF(DAY(C19+$A$1)<C19,"",DAY(C19+$A$1))) | E19: =IF(D19="","",IF(DAY(D19+$A$1)<D19,"",DAY(D19+$A$1))) | F19: =IF(E19="","",IF(DAY(E19+$A$1)<E19,"",DAY(E19+$A$1))) | G19: =IF(F19="","",IF(DAY(F19+$A$1)<F19,"",DAY(F19+$A$1))) | H19: =IF(G19="","",IF(DAY(G19+$A$1)<G19,"",DAY(G19+$A$1))) | I19: =IF(H19="","",IF(DAY(H19+$A$1)<H19,"",DAY(H19+$A$1))) | J19: Dia internacional
C21: Altres esdeveniments al llarg del mes:
C22: Setmana Novel·la negra
C24: Premio Jordi I Fabra de literatura para jóvenes

Sheet Març
A1: =DATE(YEAR(Gener!A1),MONTH(Gener!A1)+2,1) -> 46447 | K1: 1 | L1: ENERO
C2: Març 2027 | K2: 2 | L2: FEBRERO
K3: 3 | L3: MARZO
C4: Dilluns | D4: Dimarts | E4: Dimecres | F4: Dijous | G4: Divendres | H4: Dissabte | I4: Diumenge | K4: 4 | L4: ABRIL
C5: =IF(WEEKDAY($A$1)=2,1,"") -> 1 | D5: =IF(C5<>"",C5+1,IF(WEEKDAY($A$1)=3,1,"")) -> 2 | E5: =IF(D5<>"",D5+1,IF(WEEKDAY($A$1)=4,1,"")) -> 3 | F5: =IF(E5<>"",E5+1,IF(WEEKDAY($A$1)=5,1,"")) -> 4 | G5: =IF(F5<>"",F5+1,IF(WEEKDAY($A$1)=6,1,"")) -> 5 | H5: =IF(G5<>"",G5+1,IF(WEEKDAY($A$1)=7,1,"")) -> 6 | I5: =IF(H5<>"",H5+1,IF(WEEKDAY($A$1)=1,1,"")) -> 7 | K5: 5 | L5: MAYO
C6: 100 anys del naixement d'Harry Belafonte. Actor, cantant i activista estatunidenc | F6: 175 anys de la mort de Nicolai Gogol. Escriptor, dramaturg i poeta ucraïnès | H6: 100 anys del naixement de Gabriel García Márquez Escriptor. | I6: 100 anys del naixement de Josep Maria Espinàs Escriptor. | K6: 6 | L6: JUNIO
C8: Dia de la Zero Discriminació
C9: =DAY(I5+$A$1) -> 8 | D9: =DAY(C9+1) -> 9 | E9: =DAY(D9+1) -> 10 | F9: =DAY(E9+1) -> 11 | G9: =DAY(F9+1) -> 12 | H9: =DAY(G9+1) -> 13 | I9: =DAY(H9+1) -> 14 | J9: Efemèrides | K9: 7 | L9: JULIO
C10: Dia Internacional de les Dones | D10: 100 anys del naixement de Jaime de Armiñán. Escriptor, autor teatral, director i guionista cinematogràfic i televisiu | E10: 575 anys del naixement de Ferran El Catòlic | F10: 100 anys del naixement de Josep Maria Subirachs. Escultor. | I10: Gala dels Òscars | K10: 8 | L10: AGOSTO
J11: Dia internacional
F12: 75 anys del naixement de Douglas Adams. Escriptor. | H12: escriptor, poeta i traductor català
C13: =DAY(I9+$A$1) -> 15 | D13: =DAY(C13+1) -> 16 | E13: =DAY(D13+1) -> 17 | F13: =DAY(E13+1) -> 18 | G13: =DAY(F13+1) -> 19 | H13: =DAY(G13+1) -> 20 | I13: =DAY(H13+1) -> 21 | J13: Premis literaris | K13: 9 | L13: SEPTIEMBRE
H14: Dia mundial de la Narració Oral | I14: Dia mundial de la poesia
J15: Fires de llibre i còmic
H16: 300 anys de la mort d'Isaac Newton. Físic. | K16: 10 | L16: OCTUBRE
J17: Esdeveniments
H18: 75 anys del naixement de Miquel Desclot ( Pseudònim de Miquel Creus i Muñoz ) Escriptor, poeta i traductor català.
H20: 100 anys del naixement de Josep Guinovart i Bertran. Pintor, dibuixant i gravador català.
C21: =DAY(I13+$A$1) -> 22 | D21: =DAY(C21+1) -> 23 | E21: =DAY(D21+1) -> 24 | F21: =DAY(E21+1) -> 25 | G21: =DAY(F21+1) -> 26 | H21: =DAY(G21+1) -> 27 | I21: =DAY(H21+1) -> 28 | K21: 11 | L21: NOVIEMBRE
C22: Dia mundial de l'aigua | D22: Dia Mundial de la Meteorologia | E22: 100 anys del naixement de Martin Walser. Escriptor. | G22: 200 anys de la mort de Ludwig van Beethoven. Compositor. | H22: 100 anys del naixement de Mstislav Rostropóvich. Compositor. | I22: 100 anys del naixement de Marianne Fredriksson. Escriptora i periodista sueca. | K22: 12 | L22: DICIEMBRE
H24: 25 anys de la mort de Billy Wilder. Director de cinema.
H26: Dia mundial del Teatre
C27: =IF(I21="","",IF(DAY(I21+$A$1)<I21,"",DAY(I21+$A$1))) -> 29 | D27: =IF(C27="","",IF(DAY(C27+$A$1)<C27,"",DAY(C27+$A$1))) -> 30 | E27: =IF(D27="","",IF(DAY(D27+$A$1)<D27,"",DAY(D27+$A$1))) -> 31 | F27: =IF(E27="","",IF(DAY(E27+$A$1)<E27,"",DAY(E27+$A$1))) | G27: =IF(F27="","",IF(DAY(F27+$A$1)<F27,"",DAY(F27+$A$1))) | H27: =IF(G27="","",IF(DAY(G27+$A$1)<G27,"",DAY(G27+$A$1))) | I27: =IF(H27="","",IF(DAY(H27+$A$1)<H27,"",DAY(H27+$A$1)))
C29: =IF(I27="","",IF(DAY(I27+$A$1)<I27,"",DAY(I27+$A$1))) | D29: =IF(C29="","",IF(DAY(C29+$A$1)<C29,"",DAY(C29+$A$1))) | E29: =IF(D29="","",IF(DAY(D29+$A$1)<D29,"",DAY(D29+$A$1))) | F29: =IF(E29="","",IF(DAY(E29+$A$1)<E29,"",DAY(E29+$A$1))) | G29: =IF(F29="","",IF(DAY(F29+$A$1)<F29,"",DAY(F29+$A$1))) | H29: =IF(G29="","",IF(DAY(G29+$A$1)<G29,"",DAY(G29+$A$1))) | I29: =IF(H29="","",IF(DAY(H29+$A$1)<H29,"",DAY(H29+$A$1)))
C31: Altres esdeveniments al llarg del mes:
C32: Nit de les Lletres Catalanes

Sheet Abril
A1: =DATE(YEAR(Gener!A1),MONTH(Gener!A1)+3,1) -> 46478 | K1: 1 | L1: ENERO
C2: Abril 2027 | K2: 2 | L2: FEBRERO
K3: 3 | L3: MARZO
C4: Dilluns | D4: Dimarts | E4: Dimecres | F4: Dijous | G4: Divendres | H4: Dissabte | I4: Diumenge | K4: 4 | L4: ABRIL
C5: =IF(WEEKDAY($A$1)=2,1,"") | D5: =IF(C5<>"",C5+1,IF(WEEKDAY($A$1)=3,1,"")) | E5: =IF(D5<>"",D5+1,IF(WEEKDAY($A$1)=4,1,"")) | F5: =IF(E5<>"",E5+1,IF(WEEKDAY($A$1)=5,1,"")) -> 1 | G5: =IF(F5<>"",F5+1,IF(WEEKDAY($A$1)=6,1,"")) -> 2 | H5: =IF(G5<>"",G5+1,IF(WEEKDAY($A$1)=7,1,"")) -> 3 | I5: =IF(H5<>"",H5+1,IF(WEEKDAY($A$1)=1,1,"")) -> 4 | K5: 5 | L5: MAYO
F6: 50 anys del naixement de Laila Karrouch. Escriptora. | G6: Dia Mundial de Conscienciació sobre l' Autisme | I6: Dia de les Nacions Unides contra la violència domèstica | K6: 6 | L6: JUNIO
G8: Dia Mundial del Llibre Infantil. Hans Christian Andersen
C9: =DAY(I5+$A$1) -> 5 | D9: =DAY(C9+1) -> 6 | E9: =DAY(D9+1) -> 7 | F9: =DAY(E9+1) -> 8 | G9: =DAY(F9+1) -> 9 | H9: =DAY(G9+1) -> 10 | I9: =DAY(H9+1) -> 11 | J9: Efemèrides | K9: 7 | L9: JULIO
E10: 150 anys de la mort de Cecilia Böhl de Faber y Larrea. Escriptora. | I10: 50 anys de la mort de Jacques Prévert. Poeta, autor teatral i guionista cinematogràfic francès. | K10: 8 | L10: AGOSTO
J11: Dia internacional
E12: Dia Mundial de la salut
C13: =DAY(I9+$A$1) -> 12 | D13: =DAY(C13+1) -> 13 | E13: =DAY(D13+1) -> 14 | F13: =DAY(E13+1) -> 15 | G13: =DAY(F13+1) -> 16 | H13: =DAY(G13+1) -> 17 | I13: =DAY(H13+1) -> 18 | J13: Premis literaris | K13: 9 | L13: SEPTIEMBRE
F14: 575 anys del naixement de Leonardo da Vinci. Escriptora. | K14: 10 | L14: OCTUBRE
J15: Fires de llibre i còmic
F16: 100 anys de la mort de Gaston Leroux. Escriptor.
C17: =DAY(I13+$A$1) -> 19 | D17: =DAY(C17+1) -> 20 | E17: =DAY(D17+1) -> 21 | F17: =DAY(E17+1) -> 22 | G17: =DAY(F17+1) -> 23 | H17: =DAY(G17+1) -> 24 | I17: =DAY(H17+1) -> 25 | J17: Esdeveniments | K17: 11 | L17: NOVIEMBRE
E18: Dia Mundial de la Creativitat i la Innovació | F18: Dia Internacional de la Mare Terra | G18: SANT JORDI. Dia del Llibre i dels drets d'autor | H18: 75 anys del naixement de Jean-Paul Gaultier. Diseñador de moda. | I18: 175 anys del naixement de Leopoldo Alas, Clarín. Periodista i escriptor espanyol. | K18: 12 | L18: DICIEMBRE
I20: 100 anys del naixement de Corín Tellado. Escriptora espanyola de literatura romàntica.
I22: 100 anys del naixement d'Albert Uderzo. Autor de còmics francès.
C23: =IF(I17="","",IF(DAY(I17+$A$1)<I17,"",DAY(I17+$A$1))) -> 26 | D23: =IF(C23="","",IF(DAY(C23+$A$1)<C23,"",DAY(C23+$A$1))) -> 27 | E23: =IF(D23="","",IF(DAY(D23+$A$1)<D23,"",DAY(D23+$A$1))) -> 28 | F23: =IF(E23="","",IF(DAY(E23+$A$1)<E23,"",DAY(E23+$A$1))) -> 29 | G23: =IF(F23="","",IF(DAY(F23+$A$1)<F23,"",DAY(F23+$A$1))) -> 30 | H23: =IF(G23="","",IF(DAY(G23+$A$1)<G23,"",DAY(G23+$A$1))) | I23: =IF(H23="","",IF(DAY(H23+$A$1)<H23,"",DAY(H23+$A$1)))
C24: Dia Mundial de la Propietat Intel·lectual
C25: =IF(I23="","",IF(DAY(I23+$A$1)<I23,"",DAY(I23+$A$1))) | D25: =IF(C25="","",IF(DAY(C25+$A$1)<C25,"",DAY(C25+$A$1))) | E25: =IF(D25="","",IF(DAY(D25+$A$1)<D25,"",DAY(D25+$A$1))) | F25: =IF(E25="","",IF(DAY(E25+$A$1)<E25,"",DAY(E25+$A$1))) | G25: =IF(F25="","",IF(DAY(F25+$A$1)<F25,"",DAY(F25+$A$1))) | H25: =IF(G25="","",IF(DAY(G25+$A$1)<G25,"",DAY(G25+$A$1))) | I25: =IF(H25="","",IF(DAY(H25+$A$1)<H25,"",DAY(H25+$A$1)))
C26: Dia Internacional del Record del Desastre de Chernóbyl
C27: Altres esdeveniments al llarg del mes:
C28: Premi Serra d'Or
C30: Premio Cervantes

Sheet Maig
A1: =DATE(YEAR(Gener!A1),MONTH(Gener!A1)+4,1) -> 46508 | K1: 1 | L1: ENERO
C2: Maig 2027 | K2: 2 | L2: FEBRERO
K3: 3 | L3: MARZO
C4: Dilluns | D4: Dimarts | E4: Dimecres | F4: Dijous | G4: Divendres | H4: Dissabte | I4: Diumenge | K4: 4 | L4: ABRIL
C5: =IF(WEEKDAY($A$1)=2,1,"") | D5: =IF(C5<>"",C5+1,IF(WEEKDAY($A$1)=3,1,"")) | E5: =IF(D5<>"",D5+1,IF(WEEKDAY($A$1)=4,1,"")) | F5: =IF(E5<>"",E5+1,IF(WEEKDAY($A$1)=5,1,"")) | G5: =IF(F5<>"",F5+1,IF(WEEKDAY($A$1)=6,1,"")) | H5: =IF(G5<>"",G5+1,IF(WEEKDAY($A$1)=7,1,"")) -> 1 | I5: =IF(H5<>"",H5+1,IF(WEEKDAY($A$1)=1,1,"")) -> 2 | K5: 5 | L5: MAYO
H6: 175 anys del naixement de Santiago Ramón y Cajal. | K6: 6 | L6: JUNIO
C7: =DAY(I5+$A$1) -> 3 | D7: =DAY(C7+1) -> 4 | E7: =DAY(D7+1) -> 5 | F7: =DAY(E7+1) -> 6 | G7: =DAY(F7+1) -> 7 | H7: =DAY(G7+1) -> 8 | I7: =DAY(H7+1) -> 9 | J7: Efemèrides | K7: 7 | L7: JULIO
C8: Dia Mundial de la Llibertat de Premsa | E8: 75 anys de la mort de Ramon Vinyes i Cluet. Escriptor d'obres de teatre, poesia i contes | H8: Jornades del Record i Reconciliació en Honor dels qui van perdre la vida a la Segona Guerra Mundial | I8: Dia d'Europa | K8: 8 | L8: AGOSTO
J9: Dia internacional
E10: 75 anys del naixement de Knister (Ludger Jochmann) Autor de llibres infantils.
C11: =DAY(I7+$A$1) -> 10 | D11: =DAY(C11+1) -> 11 | E11: =DAY(D11+1) -> 12 | F11: =DAY(E11+1) -> 13 | G11: =DAY(F11+1) -> 14 | H11: =DAY(G11+1) -> 15 | I11: =DAY(H11+1) -> 16 | J11: Premis literaris | K11: 9 | L11: SEPTIEMBRE
D12: 100 anys de la mort de Juan Gris. Pintor | E12: Dia Mundial de la fibromiàlgia i del síndrome de la fatiga crònica | F12: 100 anys del naixement d' Herbert Ross. Director de cinema | H12: Dia Internacional de la Família | K12: 10 | L12: OCTUBRE
C13: =DAY(I11+$A$1) -> 17 | D13: =DAY(C13+1) -> 18 | E13: =DAY(D13+1) -> 19 | F13: =DAY(E13+1) -> 20 | G13: =DAY(F13+1) -> 21 | H13: =DAY(G13+1) -> 22 | I13: =DAY(H13+1) -> 23 | J13: Fires de llibre i còmic | K13: 11 | L13: NOVIEMBRE
C14: Dia Mundial contra l'Homofòbia, Lesbofòbia i Transfòbia | G14: Día Mundial de la Diversitat Cultural per al Diàleg i el Desenvolupament | H14: Dia Internacional de la Diversitat Biològica | I14: 400 anys de la mort de Luis de Góngora. Poeta i dramaturg | K14: 12 | L14: DICIEMBRE
J15: Esdeveniments
C16: Dia Mundial de les Telecomunicacions i la Societat de la Informació
C17: =IF(I13="","",IF(DAY(I13+$A$1)<I13,"",DAY(I13+$A$1))) -> 24 | D17: =IF(C17="","",IF(DAY(C17+$A$1)<C17,"",DAY(C17+$A$1))) -> 25 | E17: =IF(D17="","",IF(DAY(D17+$A$1)<D17,"",DAY(D17+$A$1))) -> 26 | F17: =IF(E17="","",IF(DAY(E17+$A$1)<E17,"",DAY(E17+$A$1))) -> 27 | G17: =IF(F17="","",IF(DAY(F17+$A$1)<F17,"",DAY(F17+$A$1))) -> 28 | H17: =IF(G17="","",IF(DAY(G17+$A$1)<G17,"",DAY(G17+$A$1))) -> 29 | I17: =IF(H17="","",IF(DAY(H17+$A$1)<H17,"",DAY(H17+$A$1))) -> 30
C18: Dia Europeu dels Parcs | D18: 50 anys de l'estrena de Star Wars. | E18: 50 anys del naixement de Raina Telgemeier. Autora i dibuixant de còmics estatunidenca | I18: 100 anys del naixement de Clint Walker. Actor
C19: =IF(I17="","",IF(DAY(I17+$A$1)<I17,"",DAY(I17+$A$1))) -> 31 | D19: =IF(C19="","",IF(DAY(C19+$A$1)<C19,"",DAY(C19+$A$1))) | E19: =IF(D19="","",IF(DAY(D19+$A$1)<D19,"",DAY(D19+$A$1))) | F19: =IF(E19="","",IF(DAY(E19+$A$1)<E19,"",DAY(E19+$A$1))) | G19: =IF(F19="","",IF(DAY(F19+$A$1)<F19,"",DAY(F19+$A$1))) | H19: =IF(G19="","",IF(DAY(G19+$A$1)<G19,"",DAY(G19+$A$1))) | I19: =IF(H19="","",IF(DAY(H19+$A$1)<H19,"",DAY(H19+$A$1)))

Sheet Juny
A1: =DATE(YEAR(Gener!A1),MONTH(Gener!A1)+5,1) -> 46539 | K1: 1 | L1: ENERO
C2: Juny 2027 | K2: 2 | L2: FEBRERO
K3: 3 | L3: MARZO
C4: Dilluns | D4: Dimarts | E4: Dimecres | F4: Dijous | G4: Divendres | H4: Dissabte | I4: Diumenge | K4: 4 | L4: ABRIL
C5: =IF(WEEKDAY($A$1)=2,1,"") | D5: =IF(C5<>"",C5+1,IF(WEEKDAY($A$1)=3,1,"")) -> 1 | E5: =IF(D5<>"",D5+1,IF(WEEKDAY($A$1)=4,1,"")) -> 2 | F5: =IF(E5<>"",E5+1,IF(WEEKDAY($A$1)=5,1,"")) -> 3 | G5: =IF(F5<>"",F5+1,IF(WEEKDAY($A$1)=6,1,"")) -> 4 | H5: =IF(G5<>"",G5+1,IF(WEEKDAY($A$1)=7,1,"")) -> 5 | I5: =IF(H5<>"",H5+1,IF(WEEKDAY($A$1)=1,1,"")) -> 6 | K5: 5 | L5: MAYO
F6: 50 anys de la mort de Roberto Rossellini. Director de cinema | H6: Dia Mundial del Medi Ambient | K6: 6 | L6: JUNIO
C7: =DAY(I5+$A$1) -> 7 | D7: =DAY(C7+1) -> 8 | E7: =DAY(D7+1) -> 9 | F7: =DAY(E7+1) -> 10 | G7: =DAY(F7+1) -> 11 | H7: =DAY(G7+1) -> 12 | I7: =DAY(H7+1) -> 13 | J7: Efemèrides | K7: 7 | L7: JULIO
D8: Dia Mundial dels Oceans | H8: Dia Mundial contra el Treball Infantil | K8: 8 | L8: AGOSTO
C9: =DAY(I7+$A$1) -> 14 | D9: =DAY(C9+1) -> 15 | E9: =DAY(D9+1) -> 16 | F9: =DAY(E9+1) -> 17 | G9: =DAY(F9+1) -> 18 | H9: =DAY(G9+1) -> 19 | I9: =DAY(H9+1) -> 20 | J9: Dia internacional | K9: 9 | L9: SEPTIEMBRE
C10: 100 anys de la mort de Jerome K. Jerome. Escriptor | D10: Dia Mundial de Presa de Consciència de l'Abús i el Maltractament a la vellesa | F10: Dia Mundial de lluita contra la Desertificació i la Sequera | G10: Dia de la Gastronomia sostenible | H10: Dia Internacional per a l'Eliminació de la Violència Sexual als Conflictes | I10: Dia Mundial dels Refugiats | K10: 10 | L10: OCTUBRE
J11: Premis literaris
D12: 100 anys del naixement d'Hugo Pratt. Dibuixant de còmic
J13: Fires de llibre i còmic
D14: 50 anys de les primeres eleccions democràtiques a Espanya després de la mort de Franco.
C15: =DAY(I9+$A$1) -> 21 | D15: =DAY(C15+1) -> 22 | E15: =DAY(D15+1) -> 23 | F15: =DAY(E15+1) -> 24 | G15: =DAY(F15+1) -> 25 | H15: =DAY(G15+1) -> 26 | I15: =DAY(H15+1) -> 27 | J15: Esdeveniments | K15: 11 | L15: NOVIEMBRE
C16: Dia de la Festa de la Música | E16: 100 anys del naixement de Bob Fosse. Actor, ballarí, coreògraf i director de cinema estatunidenc | G16: 175 anys del naixement d'Antoni Gaudí. Arquitecte | H16: Dia Internacional en Suport de les Víctimes de la Tortura | K16: 12 | L16: DICIEMBRE
C18: 500 anys de la mort de Nicolau Maquiavel. Filòsof polític i escriptor italià | H18: Dia Internacional de la Lluita contra l'ús indegut i el tràfic il·lícit de drogues
C19: =IF(I15="","",IF(DAY(I15+$A$1)<I15,"",DAY(I15+$A$1))) -> 28 | D19: =IF(C19="","",IF(DAY(C19+$A$1)<C19,"",DAY(C19+$A$1))) -> 29 | E19: =IF(D19="","",IF(DAY(D19+$A$1)<D19,"",DAY(D19+$A$1))) -> 30 | F19: Altres esdeveniments al llarg del mes:
F20: Premio Príncesa de Asturias de las Letras
F22: Premi d'Honor de les Lletres Catalanes
C23: =IF(I19="","",IF(DAY(I19+$A$1)<I19,"",DAY(I19+$A$1))) | D23: =IF(C23="","",IF(DAY(C23+$A$1)<C23,"",DAY(C23+$A$1))) | E23: =IF(D23="","",IF(DAY(D23+$A$1)<D23,"",DAY(D23+$A$1))) | F23: =IF(E23="","",IF(DAY(E23+$A$1)<E23,"",DAY(E23+$A$1))) | G23: =IF(F23="","",IF(DAY(F23+$A$1)<F23,"",DAY(F23+$A$1))) | H23: =IF(G23="","",IF(DAY(G23+$A$1)<G23,"",DAY(G23+$A$1))) | I23: =IF(H23="","",IF(DAY(H23+$A$1)<H23,"",DAY(H23+$A$1)))

Sheet Jul
A1: =DATE(YEAR(Gener!A1),MONTH(Gener!A1)+6,1) -> 46569 | K1: 1 | L1: ENERO
C2: Juliol 2027 | K2: 2 | L2: FEBRERO
K3: 3 | L3: MARZO
C4: Dilluns | D4: Dimarts | E4: Dimecres | F4: Dijous | G4: Divendres | H4: Dissabte | I4: Diumenge | K4: 4 | L4: ABRIL
C5: =IF(WEEKDAY($A$1)=2,1,"") | D5: =IF(C5<>"",C5+1,IF(WEEKDAY($A$1)=3,1,"")) | E5: =IF(D5<>"",D5+1,IF(WEEKDAY($A$1)=4,1,"")) | F5: =IF(E5<>"",E5+1,IF(WEEKDAY($A$1)=5,1,"")) -> 1 | G5: =IF(F5<>"",F5+1,IF(WEEKDAY($A$1)=6,1,"")) -> 2 | H5: =IF(G5<>"",G5+1,IF(WEEKDAY($A$1)=7,1,"")) -> 3 | I5: =IF(H5<>"",H5+1,IF(WEEKDAY($A$1)=1,1,"")) -> 4 | K5: 5 | L5: MAYO
G6: 150 anys del naixement d' Hermann Hesse. Escriptor | H6: 100 anys del naixement de Ken Russell. Director de cinema, guionista, actor | I6: 100 anys del naixement de Gina Lollobrigida. Actriu
J7: Efemèrides
G8: 50 anys de la mort de James Stewart. Actor | K8: 6 | L8: JUNIO
J9: Dia internacional
G10: 50 anys de la mort de Vladímir Nabókov. Escriptor
C11: =DAY(I5+$A$1) -> 5 | D11: =DAY(C11+1) -> 6 | E11: =DAY(D11+1) -> 7 | F11: =DAY(E11+1) -> 8 | G11: =DAY(F11+1) -> 9 | H11: =DAY(G11+1) -> 10 | I11: =DAY(H11+1) -> 11 | J11: Premis literaris | K11: 7 | L11: JULIO
D12: 100 anys del naixement de Janet Leigh. Actriu | K12: 8 | L12: AGOSTO
C13: =DAY(I11+$A$1) -> 12 | D13: =DAY(C13+1) -> 13 | E13: =DAY(D13+1) -> 14 | F13: =DAY(E13+1) -> 15 | G13: =DAY(F13+1) -> 16 | H13: =DAY(G13+1) -> 17 | I13: =DAY(H13+1) -> 18 | J13: Fires de llibre i còmic | K13: 9 | L13: SEPTIEMBRE
K14: 10 | L14: OCTUBRE
C15: =DAY(I13+$A$1) -> 19 | D15: =DAY(C15+1) -> 20 | E15: =DAY(D15+1) -> 21 | F15: =DAY(E15+1) -> 22 | G15: =DAY(F15+1) -> 23 | H15: =DAY(G15+1) -> 24 | I15: =DAY(H15+1) -> 25 | J15: Esdeveniments | K15: 11 | L15: NOVIEMBRE
K16: 12 | L16: DICIEMBRE
C17: =IF(I15="","",IF(DAY(I15+$A$1)<I15,"",DAY(I15+$A$1))) -> 26 | D17: =IF(C17="","",IF(DAY(C17+$A$1)<C17,"",DAY(C17+$A$1))) -> 27 | E17: =IF(D17="","",IF(DAY(D17+$A$1)<D17,"",DAY(D17+$A$1))) -> 28 | F17: =IF(E17="","",IF(DAY(E17+$A$1)<E17,"",DAY(E17+$A$1))) -> 29 | G17: =IF(F17="","",IF(DAY(F17+$A$1)<F17,"",DAY(F17+$A$1))) -> 30 | H17: =IF(G17="","",IF(DAY(G17+$A$1)<G17,"",DAY(G17+$A$1))) -> 31 | I17: =IF(H17="","",IF(DAY(H17+$A$1)<H17,"",DAY(H17+$A$1)))
E18: 100 anys del naixement de John Ashbery. Poeta | G18: Dia Internacional de l'Amistat
G20: Dia Mundial contra la Tracta de persones
C21: Altres esdeveniments al llarg del mes: | E21: =IF(D21="","",IF(DAY(D21+$A$1)<D21,"",DAY(D21+$A$1))) | F21: =IF(E21="","",IF(DAY(E21+$A$1)<E21,"",DAY(E21+$A$1))) | G21: =IF(F21="","",IF(DAY(F21+$A$1)<F21,"",DAY(F21+$A$1))) | H21: =IF(G21="","",IF(DAY(G21+$A$1)<G21,"",DAY(G21+$A$1))) | I21: =IF(H21="","",IF(DAY(H21+$A$1)<H21,"",DAY(H21+$A$1)))
C22: Premi llibreter de narrativa

Sheet Agost
A1: =DATE(YEAR(Gener!A1),MONTH(Gener!A1)+7,1) -> 46600 | K1: 1 | L1: ENERO
C2: Agost 2027 | K2: 2 | L2: FEBRERO
K3: 3 | L3: MARZO
C4: Dilluns | D4: Dimarts | E4: Dimecres | F4: Dijous | G4: Divendres | H4: Dissabte | I4: Diumenge | K4: 4 | L4: ABRIL
C5: =IF(WEEKDAY($A$1)=2,1,"") | D5: =IF(C5<>"",C5+1,IF(WEEKDAY($A$1)=3,1,"")) | E5: =IF(D5<>"",D5+1,IF(WEEKDAY($A$1)=4,1,"")) | F5: =IF(E5<>"",E5+1,IF(WEEKDAY($A$1)=5,1,"")) | G5: =IF(F5<>"",F5+1,IF(WEEKDAY($A$1)=6,1,"")) | H5: =IF(G5<>"",G5+1,IF(WEEKDAY($A$1)=7,1,"")) | I5: =IF(H5<>"",H5+1,IF(WEEKDAY($A$1)=1,1,"")) -> 1 | K5: 5 | L5: MAYO
K6: 6 | L6: JUNIO
C7: =DAY(I5+$A$1) -> 2 | D7: =DAY(C7+1) -> 3 | E7: =DAY(D7+1) -> 4 | F7: =DAY(E7+1) -> 5 | G7: =DAY(F7+1) -> 6 | H7: =DAY(G7+1) -> 7 | I7: =DAY(H7+1) -> 8 | J7: Efemèrides | K7: 7 | L7: JULIO
E8: 50 anys de la mort d'Antonio Machín. Cantant | I8: 75 anys de naixement de Jostein Gaarder. Escriptor | K8: 8 | L8: AGOSTO
C9: =DAY(I7+$A$1) -> 9 | D9: =DAY(C9+1) -> 10 | E9: =DAY(D9+1) -> 11 | F9: =DAY(E9+1) -> 12 | G9: =DAY(F9+1) -> 13 | H9: =DAY(G9+1) -> 14 | I9: =DAY(H9+1) -> 15 | J9: Dia internacional | K9: 9 | L9: SEPTIEMBRE
C10: 100 anys de naixement de Robert Shaw. Actor | E10: 100 anys de naixement de Stuart Rosenberg. Director de cinema | F10: 200 anys de la mort de William Blake. Poeta i pintor | I10: 500 anys de naixement de Fray Luis de León. Religiós i escriptor del Renaixement espanyol | K10: 10 | L10: OCTUBRE
C11: =DAY(I9+$A$1) -> 16 | D11: =DAY(C11+1) -> 17 | E11: =DAY(D11+1) -> 18 | F11: =DAY(E11+1) -> 19 | G11: =DAY(F11+1) -> 20 | H11: =DAY(G11+1) -> 21 | I11: =DAY(H11+1) -> 22 | J11: Premis literaris | K11: 11 | L11: NOVIEMBRE
C12: 50 anys de la mort d'Elvis Presley. Cantant | F12: 50 anys de la mort de Groucho Marx. Actor i comediant | H12: Dia Internacional de Commemoració i Homenatge a les Víctimes del Terrorisme | K12: 12 | L12: DICIEMBRE
J13: Fires de llibre i còmic
F14: 25 anys de la mort d'Eduardo Chillida. Escultor
J15: Esdeveniments
F16: Dia Mundial de l'Assistència Humanitària
C17: =IF(I11="","",IF(DAY(I11+$A$1)<I11,"",DAY(I11+$A$1))) -> 23 | D17: =IF(C17="","",IF(DAY(C17+$A$1)<C17,"",DAY(C17+$A$1))) -> 24 | E17: =IF(D17="","",IF(DAY(D17+$A$1)<D17,"",DAY(D17+$A$1))) -> 25 | F17: =IF(E17="","",IF(DAY(E17+$A$1)<E17,"",DAY(E17+$A$1))) -> 26 | G17: =IF(F17="","",IF(DAY(F17+$A$1)<F17,"",DAY(F17+$A$1))) -> 27 | H17: =IF(G17="","",IF(DAY(G17+$A$1)<G17,"",DAY(G17+$A$1))) -> 28 | I17: =IF(H17="","",IF(DAY(H17+$A$1)<H17,"",DAY(H17+$A$1))) -> 29
C18: 100 anys del naixement de Dick Bruna Escriptor, artista i dibuixant d’historietes en neerlandès | D18: 50 anys del naixement de John Green. Escriptor | H18: 75 anys del naixement de Manuel Cuyàs i Gibert. Escriptor i periodista
C19: =IF(I17="","",IF(DAY(I17+$A$1)<I17,"",DAY(I17+$A$1))) -> 30 | D19: =IF(C19="","",IF(DAY(C19+$A$1)<C19,"",DAY(C19+$A$1))) -> 31 | E19: =IF(D19="","",IF(DAY(D19+$A$1)<D19,"",DAY(D19+$A$1))) | F19: =IF(E19="","",IF(DAY(E19+$A$1)<E19,"",DAY(E19+$A$1))) | G19: =IF(F19="","",IF(DAY(F19+$A$1)<F19,"",DAY(F19+$A$1))) | H19: =IF(G19="","",IF(DAY(G19+$A$1)<G19,"",DAY(G19+$A$1))) | I19: =IF(H19="","",IF(DAY(H19+$A$1)<H19,"",DAY(H19+$A$1)))
D20: Dia Internacional de la solidaritat

Sheet Setembre
A1: =DATE(YEAR(Gener!A1),MONTH(Gener!A1)+8,1) -> 46631 | K1: 1 | L1: ENERO
C2: Setembre 2027 | K2: 2 | L2: FEBRERO
K3: 3 | L3: MARZO
C4: Dilluns | D4: Dimarts | E4: Dimecres | F4: Dijous | G4: Divendres | H4: Dissabte | I4: Diumenge | K4: 4 | L4: ABRIL
C5: =IF(WEEKDAY($A$1)=2,1,"") | D5: =IF(C5<>"",C5+1,IF(WEEKDAY($A$1)=3,1,"")) | E5: =IF(D5<>"",D5+1,IF(WEEKDAY($A$1)=4,1,"")) -> 1 | F5: =IF(E5<>"",E5+1,IF(WEEKDAY($A$1)=5,1,"")) -> 2 | G5: =IF(F5<>"",F5+1,IF(WEEKDAY($A$1)=6,1,"")) -> 3 | H5: =IF(G5<>"",G5+1,IF(WEEKDAY($A$1)=7,1,"")) -> 4 | I5: =IF(H5<>"",H5+1,IF(WEEKDAY($A$1)=1,1,"")) -> 5 | K5: 5 | L5: MAYO
K6: 6 | L6: JUNIO
C7: =DAY(I5+$A$1) -> 6 | D7: =DAY(C7+1) -> 7 | E7: =DAY(D7+1) -> 8 | F7: =DAY(E7+1) -> 9 | G7: =DAY(F7+1) -> 10 | H7: =DAY(G7+1) -> 11 | I7: =DAY(H7+1) -> 12 | J7: Efemèrides | K7: 7 | L7: JULIO
E8: Dia Internacional de l'Alfabetització | K8: 8 | L8: AGOSTO
C9: =DAY(I7+$A$1) -> 13 | D9: =DAY(C9+1) -> 14 | E9: =DAY(D9+1) -> 15 | F9: =DAY(E9+1) -> 16 | G9: =DAY(F9+1) -> 17 | H9: =DAY(G9+1) -> 18 | I9: =DAY(H9+1) -> 19 | J9: Dia internacional | K9: 9 | L9: SEPTIEMBRE
D10: 100 anys de la mort d'Isadora Duncan. Ballarina i coreògrafa estatunidenca, creadora de la dansa moderna | F10: 100 anys del naixement de Peter Falk. Actor | K10: 10 | L10: OCTUBRE
J11: Premis literaris
F12: 50 anys de la mort de Maria Callas. Soprano
J13: Fires de llibre i còmic
F14: Dia Internacional de la Preservació de la Capa d' Ozó
C15: =DAY(I9+$A$1) -> 20 | D15: =DAY(C15+1) -> 21 | E15: =DAY(D15+1) -> 22 | F15: =DAY(E15+1) -> 23 | G15: =DAY(F15+1) -> 24 | H15: =DAY(G15+1) -> 25 | I15: =DAY(H15+1) -> 26 | J15: Esdeveniments | K15: 11 | L15: NOVIEMBRE
D16: Dia Internacional de l'Alfabetització | F16: Dia Internacional de la Llengua de Signes | I16: Dia Internacional per l'Eliminació Total de les Armes Nuclears | K16: 12 | L16: DICIEMBRE
D18: Dia Internacional de l'Alzheimer | F18: Dia Internacional contra l'Explotació Sexual i la Tracta de Persones
C19: =IF(I15="","",IF(DAY(I15+$A$1)<I15,"",DAY(I15+$A$1))) -> 27 | D19: =IF(C19="","",IF(DAY(C19+$A$1)<C19,"",DAY(C19+$A$1))) -> 28 | E19: =IF(D19="","",IF(DAY(D19+$A$1)<D19,"",DAY(D19+$A$1))) -> 29 | F19: =IF(E19="","",IF(DAY(E19+$A$1)<E19,"",DAY(E19+$A$1))) -> 30 | G19: =IF(F19="","",IF(DAY(F19+$A$1)<F19,"",DAY(F19+$A$1))) | H19: =IF(G19="","",IF(DAY(G19+$A$1)<G19,"",DAY(G19+$A$1))) | I19: =IF(H19="","",IF(DAY(H19+$A$1)<H19,"",DAY(H19+$A$1)))
C20: Dia Mundial del turisme | F20: Dia Internacional de la Traducció
C21: =IF(I19="","",IF(DAY(I19+$A$1)<I19,"",DAY(I19+$A$1))) | D21: =IF(C21="","",IF(DAY(C21+$A$1)<C21,"",DAY(C21+$A$1))) | E21: =IF(D21="","",IF(DAY(D21+$A$1)<D21,"",DAY(D21+$A$1))) | F21: =IF(E21="","",IF(DAY(E21+$A$1)<E21,"",DAY(E21+$A$1))) | G21: =IF(F21="","",IF(DAY(F21+$A$1)<F21,"",DAY(F21+$A$1))) | H21: =IF(G21="","",IF(DAY(G21+$A$1)<G21,"",DAY(G21+$A$1))) | I21: =IF(H21="","",IF(DAY(H21+$A$1)<H21,"",DAY(H21+$A$1)))
C23: Altres esdeveniments al llarg del mes:
C24: Premi Prudenci Bertrana
C26: Premi Miquel Palol de Poesia
C28: Premi Ramon Muntaner de literatura juvenil
C30: Fira del Llibre d'Ocasió Antic i Modern
C32: Setmana del Llibre en Català

Sheet Octubre
A1: =DATE(YEAR(Gener!A1),MONTH(Gener!A1)+9,1) -> 46661 | K1: 1 | L1: ENERO
C2: Octubre 2027 | K2: 2 | L2: FEBRERO
K3: 3 | L3: MARZO
C4: Dilluns | D4: Dimarts | E4: Dimecres | F4: Dijous | G4: Divendres | H4: Dissabte | I4: Diumenge | K4: 4 | L4: ABRIL
C5: =IF(WEEKDAY($A$1)=2,1,"") | D5: =IF(C5<>"",C5+1,IF(WEEKDAY($A$1)=3,1,"")) | E5: =IF(D5<>"",D5+1,IF(WEEKDAY($A$1)=4,1,"")) | F5: =IF(E5<>"",E5+1,IF(WEEKDAY($A$1)=5,1,"")) | G5: =IF(F5<>"",F5+1,IF(WEEKDAY($A$1)=6,1,"")) -> 1 | H5: =IF(G5<>"",G5+1,IF(WEEKDAY($A$1)=7,1,"")) -> 2 | I5: =IF(H5<>"",H5+1,IF(WEEKDAY($A$1)=1,1,"")) -> 3 | K5: 5 | L5: MAYO
G6: Aniversari del reconeixement del dret al sufragi femení a Espanya | H6: Dia Internacional de la No Violència | K6: 6 | L6: JUNIO
H8: Dia Internacional de les persones sordes
C9: =DAY(I5+$A$1) -> 4 | D9: =DAY(C9+1) -> 5 | E9: =DAY(D9+1) -> 6 | F9: =DAY(E9+1) -> 7 | G9: =DAY(F9+1) -> 8 | H9: =DAY(G9+1) -> 9 | I9: =DAY(H9+1) -> 10 | J9: Efemèrides | K9: 7 | L9: JULIO
C10: Dia Internacional dels animals | D10: 75 anys del naixement de Clive Barker. Escriptor i director de cinema | F10: 100 anys del naixement de Juan Benet. Escriptor | I10: Dia Mundial de la Salut Mental | K10: 8 | L10: AGOSTO
C11: =DAY(I9+$A$1) -> 11 | D11: =DAY(C11+1) -> 12 | E11: =DAY(D11+1) -> 13 | F11: =DAY(E11+1) -> 14 | G11: =DAY(F11+1) -> 15 | H11: =DAY(G11+1) -> 16 | I11: =DAY(H11+1) -> 17 | J11: Dia internacional | K11: 9 | L11: SEPTIEMBRE
C12: 50 anys del naixement de Laura Gallego García. Escriptora | F12: Dia Mundial de la Visió | H12: Dia Mundial de l'Alimentació | I12: Dia Internacional per a l'Erradicació de la Pobresa | K12: 10 | L12: OCTUBRE
J13: Premis literaris
F14: 50 anys de la mort de Bing Crosby. Actor | H14: 100 anys del naixement de Günter Grass. Escriptor
J15: Fires de llibre i còmic
F16: 100 anys del naixement de Roger Moore. Actor
C17: =DAY(I11+$A$1) -> 18 | D17: =DAY(C17+1) -> 19 | E17: =DAY(D17+1) -> 20 | F17: =DAY(E17+1) -> 21 | G17: =DAY(F17+1) -> 22 | H17: =DAY(G17+1) -> 23 | I17: =DAY(H17+1) -> 24 | J17: Esdeveniments | K17: 11 | L17: NOVIEMBRE
C18: Dia de les escriptores | G18: 100 anys del naixement de George Francesc Vila i Rufas conegut com a Cesc. Ninotaire i pintor | H18: 50 anys del retorn del retorn del president Tarradellas de l'exili. | I18: Dia Mundial d' Informació sobre el Desenvolupament | K18: 12 | L18: DICIEMBRE
C20: 100 anys del naixement de George C. Scott. Actor | I20: Dia de les Nacions Unides
I22: Dia de la Biblioteca
C23: =IF(I17="","",IF(DAY(I17+$A$1)<I17,"",DAY(I17+$A$1))) -> 25 | D23: =IF(C23="","",IF(DAY(C23+$A$1)<C23,"",DAY(C23+$A$1))) -> 26 | E23: =IF(D23="","",IF(DAY(D23+$A$1)<D23,"",DAY(D23+$A$1))) -> 27 | F23: =IF(E23="","",IF(DAY(E23+$A$1)<E23,"",DAY(E23+$A$1))) -> 28 | G23: =IF(F23="","",IF(DAY(F23+$A$1)<F23,"",DAY(F23+$A$1))) -> 29 | H23: =IF(G23="","",IF(DAY(G23+$A$1)<G23,"",DAY(G23+$A$1))) -> 30 | I23: =IF(H23="","",IF(DAY(H23+$A$1)<H23,"",DAY(H23+$A$1))) -> 31
E24: Dia Mundial del Patrimoni Audiovisual
C25: =IF(I23="","",IF(DAY(I23+$A$1)<I23,"",DAY(I23+$A$1))) | D25: =IF(C25="","",IF(DAY(C25+$A$1)<C25,"",DAY(C25+$A$1))) | E25: =IF(D25="","",IF(DAY(D25+$A$1)<D25,"",DAY(D25+$A$1))) | F25: =IF(E25="","",IF(DAY(E25+$A$1)<E25,"",DAY(E25+$A$1))) | G25: =IF(F25="","",IF(DAY(F25+$A$1)<F25,"",DAY(F25+$A$1)))
E26: 50 anys de la mort de James Cain. Escriptor
C27: Altres esdeveniments al llarg del mes:
C28: LIBER.45a Fira Internacional del Llibre
C30: Premi Planeta
C32: Premio Libro del Año

Sheet Novembre
A1: =DATE(YEAR(Gener!A1),MONTH(Gener!A1)+10,1) -> 46692 | K1: 1 | L1: ENERO
C2: Novembre 2027 | K2: 2 | L2: FEBRERO
K3: 3 | L3: MARZO
C4: Dilluns | D4: Dimarts | E4: Dimecres | F4: Dijous | G4: Divendres | H4: Dissabte | I4: Diumenge | K4: 4 | L4: ABRIL
C5: =IF(WEEKDAY($A$1)=2,1,"") -> 1 | D5: =IF(C5<>"",C5+1,IF(WEEKDAY($A$1)=3,1,"")) -> 2 | E5: =IF(D5<>"",D5+1,IF(WEEKDAY($A$1)=4,1,"")) -> 3 | F5: =IF(E5<>"",E5+1,IF(WEEKDAY($A$1)=5,1,"")) -> 4 | G5: =IF(F5<>"",F5+1,IF(WEEKDAY($A$1)=6,1,"")) -> 5 | H5: =IF(G5<>"",G5+1,IF(WEEKDAY($A$1)=7,1,"")) -> 6 | I5: =IF(H5<>"",H5+1,IF(WEEKDAY($A$1)=1,1,"")) -> 7 | K5: 5 | L5: MAYO
G6: 50 anys de la mort de René Goscinny. Dibuixant i guionista de còmics francès, creador d'Astèrix el gal, Lucky Luke i el petit Nicolàs | K6: 6 | L6: JUNIO
C7: =DAY(I5+$A$1) -> 8 | D7: =DAY(C7+1) -> 9 | E7: =DAY(D7+1) -> 10 | F7: =DAY(E7+1) -> 11 | G7: =DAY(F7+1) -> 12 | H7: =DAY(G7+1) -> 13 | I7: =DAY(H7+1) -> 14 | J7: Efemèrides | K7: 7 | L7: JULIO
E8: Dia de la Ciència per la Pau i el Desenvolupament, segons la UNESCO | I8: 100 anys del naixement de Narciso Yepes. Guitarrista | K8: 8 | L8: AGOSTO
C9: =DAY(I7+$A$1) -> 15 | D9: =DAY(C9+1) -> 16 | E9: =DAY(D9+1) -> 17 | F9: =DAY(E9+1) -> 18 | G9: =DAY(F9+1) -> 19 | H9: =DAY(G9+1) -> 20 | I9: =DAY(H9+1) -> 21 | J9: Dia internacional | K9: 9 | L9: SEPTIEMBRE
D10: Dia Internacional per a la Tolerància | F10: Dia Mundial de la Filosofia | I10: 100 anys del naixement de Montserrat de Salvador i Deop. Actriu | K10: 10 | L10: OCTUBRE
C11: =DAY(I9+$A$1) -> 22 | D11: =DAY(C11+1) -> 23 | E11: =DAY(D11+1) -> 24 | F11: =DAY(E11+1) -> 25 | G11: =DAY(F11+1) -> 26 | H11: =DAY(G11+1) -> 27 | I11: =DAY(H11+1) -> 28 | J11: Premis literaris | K11: 11 | L11: NOVIEMBRE
F12: Dia Internacional per a l’Eliminació de la Violència envers les Dones | I12: Dia Internacional de les persones sense sostre | K12: 12 | L12: DICIEMBRE
C13: =IF(I11="","",IF(DAY(I11+$A$1)<I11,"",DAY(I11+$A$1))) -> 29 | D13: =IF(C13="","",IF(DAY(C13+$A$1)<C13,"",DAY(C13+$A$1))) -> 30 | E13: =IF(D13="","",IF(DAY(D13+$A$1)<D13,"",DAY(D13+$A$1))) | F13: =IF(E13="","",IF(DAY(E13+$A$1)<E13,"",DAY(E13+$A$1))) | G13: =IF(F13="","",IF(DAY(F13+$A$1)<F13,"",DAY(F13+$A$1))) | H13: =IF(G13="","",IF(DAY(G13+$A$1)<G13,"",DAY(G13+$A$1))) | I13: =IF(H13="","",IF(DAY(H13+$A$1)<H13,"",DAY(H13+$A$1))) | J13: Fires de llibre i còmic
D14: Dia de Commemoració de totes les víctimes de la guerra química
C15: =IF(I13="","",IF(DAY(I13+$A$1)<I13,"",DAY(I13+$A$1))) | D15: =IF(C15="","",IF(DAY(C15+$A$1)<C15,"",DAY(C15+$A$1))) | E15: =IF(D15="","",IF(DAY(D15+$A$1)<D15,"",DAY(D15+$A$1))) | F15: =IF(E15="","",IF(DAY(E15+$A$1)<E15,"",DAY(E15+$A$1))) | G15: =IF(F15="","",IF(DAY(F15+$A$1)<F15,"",DAY(F15+$A$1))) | H15: =IF(G15="","",IF(DAY(G15+$A$1)<G15,"",DAY(G15+$A$1))) | I15: =IF(H15="","",IF(DAY(H15+$A$1)<H15,"",DAY(H15+$A$1))) | J15: Esdeveniments
C17: Altres esdeveniments al llarg del mes: | J17: Esdeveniments
C18: Premi L'H Confidencial 2027, premi internacional de novel·la negra
C20: Setmana de la ciència
C22: Fira del Llibre de Muntanya

Sheet Desembre
A1: =DATE(YEAR(Gener!A1),MONTH(Gener!A1)+11,1) -> 46722 | K1: 1 | L1: ENERO
C2: Desembre 2027 | K2: 2 | L2: FEBRERO
K3: 3 | L3: MARZO
C4: Dilluns | D4: Dimarts | E4: Dimecres | F4: Dijous | G4: Divendres | H4: Dissabte | I4: Diumenge | K4: 4 | L4: ABRIL
C5: =IF(WEEKDAY($A$1)=2,1,"") | D5: =IF(C5<>"",C5+1,IF(WEEKDAY($A$1)=3,1,"")) | E5: =IF(D5<>"",D5+1,IF(WEEKDAY($A$1)=4,1,"")) -> 1 | F5: =IF(E5<>"",E5+1,IF(WEEKDAY($A$1)=5,1,"")) -> 2 | G5: =IF(F5<>"",F5+1,IF(WEEKDAY($A$1)=6,1,"")) -> 3 | H5: =IF(G5<>"",G5+1,IF(WEEKDAY($A$1)=7,1,"")) -> 4 | I5: =IF(H5<>"",H5+1,IF(WEEKDAY($A$1)=1,1,"")) -> 5 | K5: 5 | L5: MAYO
E6: Dia Mundial de contra la SIDA | G6: Dia Internacional de les Persones amb Discapacitat | H6: 100 anys del naixement de Rafael Sánchez Ferlosio. Escriptor i assagista | I6: Dia Internacional dels Voluntaris pel Desenvolupament Econòmic i Social | K6: 6 | L6: JUNIO
C7: =DAY(I5+$A$1) -> 6 | D7: =DAY(C7+1) -> 7 | E7: =DAY(D7+1) -> 8 | F7: =DAY(E7+1) -> 9 | G7: =DAY(F7+1) -> 10 | H7: =DAY(G7+1) -> 11 | I7: =DAY(H7+1) -> 12 | J7: Efemèrides | K7: 7 | L7: JULIO
F8: 50 anys de la mort de Clarice Lispector. Escriptora | G8: Dia dels Drets Humans | H8: Dia Internacional de les Muntanyes | K8: 8 | L8: AGOSTO
C9: =DAY(I7+$A$1) -> 13 | D9: =DAY(C9+1) -> 14 | E9: =DAY(D9+1) -> 15 | F9: =DAY(E9+1) -> 16 | G9: =DAY(F9+1) -> 17 | H9: =DAY(G9+1) -> 18 | I9: =DAY(H9+1) -> 19 | J9: Dia internacional | K9: 9 | L9: SEPTIEMBRE
F10: 125 anys del naixement de Rafael Alberti. Poeta | K10: 10 | L10: OCTUBRE
C11: =DAY(I9+$A$1) -> 20 | D11: =DAY(C11+1) -> 21 | E11: =DAY(D11+1) -> 22 | F11: =DAY(E11+1) -> 23 | G11: =DAY(F11+1) -> 24 | H11: =DAY(G11+1) -> 25 | I11: =DAY(H11+1) -> 26 | J11: Premis literaris | K11: 11 | L11: NOVIEMBRE
C12: Dia Internacional de la Solidaritat Humana | G12: 100 anys del naixement de Mary Higgins Clark. Escriptora | H12: 50 anys de la mort de Charles Chaplin. Actor | I12: 50 anys de la mort de Howard Hawks. Director de cinema | K12: 12 | L12: DICIEMBRE
C13: =IF(I11="","",IF(DAY(I11+$A$1)<I11,"",DAY(I11+$A$1))) -> 27 | D13: =IF(C13="","",IF(DAY(C13+$A$1)<C13,"",DAY(C13+$A$1))) -> 28 | E13: =IF(D13="","",IF(DAY(D13+$A$1)<D13,"",DAY(D13+$A$1))) -> 29 | F13: =IF(E13="","",IF(DAY(E13+$A$1)<E13,"",DAY(E13+$A$1))) -> 30 | G13: =IF(F13="","",IF(DAY(F13+$A$1)<F13,"",DAY(F13+$A$1))) -> 31 | H13: =IF(G13="","",IF(DAY(G13+$A$1)<G13,"",DAY(G13+$A$1))) | I13: =IF(H13="","",IF(DAY(H13+$A$1)<H13,"",DAY(H13+$A$1))) | J13: Fires de llibre i còmic
C15: =IF(I13="","",IF(DAY(I13+$A$1)<I13,"",DAY(I13+$A$1))) | D15: =IF(C15="","",IF(DAY(C15+$A$1)<C15,"",DAY(C15+$A$1))) | E15: =IF(D15="","",IF(DAY(D15+$A$1)<D15,"",DAY(D15+$A$1))) | F15: =IF(E15="","",IF(DAY(E15+$A$1)<E15,"",DAY(E15+$A$1))) | G15: =IF(F15="","",IF(DAY(F15+$A$1)<F15,"",DAY(F15+$A$1))) | H15: =IF(G15="","",IF(DAY(G15+$A$1)<G15,"",DAY(G15+$A$1))) | I15: =IF(H15="","",IF(DAY(H15+$A$1)<H15,"",DAY(H15+$A$1))) | J15: Esdeveniments
C17: Altres esdeveniments al llarg del mes: | J17: Esdeveniments
C19: XXXI Saló del Manga

Sheet Anys interncionals
A1: ANYS INTERNACIONALS/ALTRES
A2: Any Internacional del Turisme Sostenible i Resilient.
A3: Centenari del naixement del grup literari conegut com la Generación del 27.
A4: Mil·lenari del parlamentarisme català

Sheet Full2
A1: Calendario 2027 en Excel y PDF - Teformas.com
