Workbook
Name combustibles: #REF!
Name EM: [1]EM!$A$2:$A$45
Name EMA: [1]EM!$A$2:$A$46

Sheet Índex
C6: Benvinguts i benvingudes !!!
B8: Amb aquest full de càlcul podreu saber els estalvis assolits amb el projecte 50/50
C9: I, com sabem si amb les nostres accions realment estem estalviant?
C10: Doncs, coneixent el que es consumeix d'electricitat i combustibles a l'escola i comparant-ho
C11: amb els anys que no fèiem res.
B12: Amb aquest excel calcular els vostre estalvis és molt fàcil:
B13: Només cal que ompliu les dades sol·licitades a la pestanya Entrada de dades seguint les indicacions que trobareu
C14: 1. | D14: Esculliu el vostre municipi*
C15: 2. | D15: Ompliu només les cèl·les en blanc, amb les dades que trobeu a les vostres factures. No importa si són mensuals o bimensuals. Això sí, si ompliu consum ompliu despesa! Les mitjanes que es calculen en aquest full són mensuals i no anuals.
C17: 3. | D17: Els anys de referència d'aquest full de càlcul van des del 2016 al 2019, podeu omplir-los tots o no però us recomanem que, com a mínim, introduiu 3 anys de dades per tenir una referència més fiable. En tractar-se de cursos escolars l'ordre dels mesos va de setembre a agost, per tant en totes les columnes s'encabalquen dos anys.
C20: 4. | D20: A la pestanya Càlcul de l'estalvi podreu veure el consum i diners que heu estalviat amb les vostres accions
B22: * L'estalvi de gas es calcula d'acord amb els graus dia. Quan escolliu el vostre municipi es calculen automàticament els graus dia pels anys de referència que introduirieu
B23: No tots els municipis tenen una estació meteorològica d'on extreure les dades de temperatura mitjana diaria per tot un any així que cadascun dels municipis
B24: es redirigeix a l'estwació més propera amb aquestes dades disponibles.
F26: Per qualsevol dubte us podeu posar en contacte amb
F27: l'equip 50/50 a l'adreça: otepa.5050@diba.cat

Sheet Entrada de dades 
B7: Escull el teu municipi | D7: SI NO SE T'OBRE EL DESPLEGABLE, CLICA VÀRIES VEGADES DINS DEL CAMP EN BLANC ALTERNANT ELS DOS BOTONS DEL RATOLÍ PER ACTIVAR EL LLISTAT DE MUNICIPIS. UN COP ACTIVAT, CLICA LA FLETXA PERQUÈ ES MOSTRI EL DESPLEGABLE
B9: 1. CONSUM D'ELECTRICITAT.
B11: NOTA: Omple només les cèl·les en blanc amb la informació sol·licitada. NO OMPLIS LES CÈL·LES OMBREJADES EN GRIS
C15: 2018/2019 | D15: 2020/2021 | E15: 2021/2022 | F15: 2022/2023 | G15: Mitjana | H15: 50/50 (2023/2024)
C16: kWh | D16: kWh | E16: kWh | F16: kWh | G16: kWh | H16: kWh | I16: €
B17: setembre | G17: =IF(ISERROR(AVERAGEIF(C17:F17,"<>0")),"",(AVERAGEIF(C17:F17,"<>0")))
B18: octubre | G18: =IF(ISERROR(AVERAGEIF(C18:F18,"<>0")),"",(AVERAGEIF(C18:F18,"<>0")))
B19: novembre | G19: =IF(ISERROR(AVERAGEIF(C19:F19,"<>0")),"",(AVERAGEIF(C19:F19,"<>0")))
B20: desembre | G20: =IF(ISERROR(AVERAGEIF(C20:F20,"<>0")),"",(AVERAGEIF(C20:F20,"<>0")))
B21: gener | G21: =IF(ISERROR(AVERAGEIF(C21:F21,"<>0")),"",(AVERAGEIF(C21:F21,"<>0")))
B22: febrer | G22: =IF(ISERROR(AVERAGEIF(C22:F22,"<>0")),"",(AVERAGEIF(C22:F22,"<>0")))
B23: març | G23: =IF(ISERROR(AVERAGEIF(C23:F23,"<>0")),"",(AVERAGEIF(C23:F23,"<>0")))
B24: abril | G24: =IF(ISERROR(AVERAGEIF(C24:F24,"<>0")),"",(AVERAGEIF(C24:F24,"<>0")))
B25: maig | G25: =IF(ISERROR(AVERAGEIF(C25:F25,"<>0")),"",(AVERAGEIF(C25:F25,"<>0")))
B26: juny | G26: =IF(ISERROR(AVERAGEIF(C26:F26,"<>0")),"",(AVERAGEIF(C26:F26,"<>0")))
B27: juliol | G27: =IF(ISERROR(AVERAGEIF(C27:F27,"<>0")),"",(AVERAGEIF(C27:F27,"<>0")))
B28: agost | G28: =IF(ISERROR(AVERAGEIF(C28:F28,"<>0")),"",(AVERAGEIF(C28:F28,"<>0")))
B29: TOTAL | G29: =SUM(G17:G28) -> 0 | H29: =SUM(H17:H28) -> 0 | I29: =SUM(I17:I28) -> 0
B31: 2. CONSUM DE COMBUSTIBLE
C33: 2018/2019 | D33: 2020/2021 | E33: 2021/2022 | F33: 2022/2023 | G33: Mitjana | H33: 50/50 (2023/2024)
C34: kWh | D34: kWh | E34: kWh | F34: kWh | G34: kWh | H34: kWh | I34: euros
B35: setembre | G35: =IF(ISERROR(AVERAGEIF(C35:F35,"<>0")),"",(AVERAGEIF(C35:F35,"<>0")))
B36: octubre | G36: =IF(ISERROR(AVERAGEIF(C36:F36,"<>0")),"",(AVERAGEIF(C36:F36,"<>0")))
B37: novembre | G37: =IF(ISERROR(AVERAGEIF(C37:F37,"<>0")),"",(AVERAGEIF(C37:F37,"<>0")))
B38: desembre | G38: =IF(ISERROR(AVERAGEIF(C38:F38,"<>0")),"",(AVERAGEIF(C38:F38,"<>0")))
B39: gener | G39: =IF(ISERROR(AVERAGEIF(C39:F39,"<>0")),"",(AVERAGEIF(C39:F39,"<>0")))
B40: febrer | G40: =IF(ISERROR(AVERAGEIF(C40:F40,"<>0")),"",(AVERAGEIF(C40:F40,"<>0")))
B41: març | G41: =IF(ISERROR(AVERAGEIF(C41:F41,"<>0")),"",(AVERAGEIF(C41:F41,"<>0")))
B42: abril | G42: =IF(ISERROR(AVERAGEIF(C42:F42,"<>0")),"",(AVERAGEIF(C42:F42,"<>0")))
B43: maig | G43: =IF(ISERROR(AVERAGEIF(C43:F43,"<>0")),"",(AVERAGEIF(C43:F43,"<>0")))
B44: juny | G44: =IF(ISERROR(AVERAGEIF(C44:F44,"<>0")),"",(AVERAGEIF(C44:F44,"<>0")))
B45: juliol | G45: =IF(ISERROR(AVERAGEIF(C45:F45,"<>0")),"",(AVERAGEIF(C45:F45,"<>0")))
B46: agost | G46: =IF(ISERROR(AVERAGEIF(C46:F46,"<>0")),"",(AVERAGEIF(C46:F46,"<>0")))
B47: TOTAL | G47: =SUM(G35:G46) -> 0 | H47: =SUM(H35:H46) -> 0 | I47: =SUM(I35:I46) -> 0
B48: Graus dia | C48: =IF(ISERROR(VLOOKUP(C7,'Llistat municipis'!A1:H312,5,FALSE)),"",(VLOOKUP(C7,'Llistat municipis'!A1:H312,5,FALSE))) | D48: =IF(ISERROR(VLOOKUP(C7,'Llistat municipis'!A1:I312,6,FALSE)),"",(VLOOKUP(C7,'Llistat municipis'!A1:I312,6,FALSE))) | E48: =IF(ISERROR(VLOOKUP(C7,'Llistat municipis'!A1:L312,7,FALSE)),"",(VLOOKUP(C7,'Llistat municipis'!A1:L312,7,FALSE))) | F48: =IF(ISERROR(VLOOKUP(C7,'Llistat municipis'!A1:P312,8,FALSE)),"",(VLOOKUP(C7,'Llistat municipis'!A1:P312,8,FALSE))) | G48: =IF(ISERROR(AVERAGEIF(C48:F48,"<>0")),"",(AVERAGEIF(C48:F48,"<>0"))) | H48: =IF(ISERROR(VLOOKUP(C7,'Llistat municipis'!A1:T312,9,FALSE)),"",(VLOOKUP(C7,'Llistat municipis'!A1:T312,9,FALSE)))
B49: CONSUM PONDERAT | F49: =IF(ISERROR(K47*1000/G48),"",(K47*1000/G48)) | G49: =IF(ISERROR(G47*1000/G48),"",(G47*1000/G48)) | H49: =IF(ISERROR(H47*1000/H48),"",(H47*1000/H48)) | I49: =IFERROR(H49*K48,0) -> 0
B52: 2016 | C52: =C49 -> 0
B53: 2017 | C53: =E49 -> 0
B54: 2018
B55: 2019
...

Sheet Calcul de l'estalvi
B7: NOTA: Si el número apareix en negatiu i color verd s'ha assolit estalvi. Si apareix en positiu i color vermell no s'ha assolit estalvi
B8: 1. CÀLCUL DE L'ESTALVI ACONSEGUIT EN ELECTRICITAT. | F8: 2. CÀLCUL DE L'ESTALVI ACONSEGUIT EN COMBUSTIBLE
B10: Estalvi aconseguit (kWh) | C10: Estalvi aconseguit (€) | D10: Estalvi aconseguit (emissions de GEH, Tn CO2 eq)) | F10: Estalvi aconseguit (kWh) | G10: Estalvi aconseguit (€) | H10: Estalvi aconseguit (emissions de GEH, Tn CO2 eq)) | L10: Atenció!!! Si a l'estalvi aconseguit teniu una xifra negativa vol dir que no heu estalviat!!!!
B11: =IF(ISERROR('Entrada de dades '!H29-'Entrada de dades '!G29),"",('Entrada de dades '!H29-'Entrada de dades '!G29)) -> 0 | C11: =IF(ISERROR(('Entrada de dades '!H29-'Entrada de dades '!G29)*('Entrada de dades '!I29/'Entrada de dades '!H29)),"",(('Entrada de dades '!H29-'Entrada de dades '!G29)*('Entrada de dades '!I29/'Entrada de dades '!H29))) | D11: =IF(ISERROR(B11*'Factors de conversió i emissió '!D29)/1000,"",(B11*'Factors de conversió i emissió '!D29))/1000 -> 0 | F11: =IF(ISERROR('Entrada de dades '!H49-'Entrada de dades '!G49),"",('Entrada de dades '!H49-'Entrada de dades '!G49)) | G11: =IF(ISERROR(('Entrada de dades '!H49-'Entrada de dades '!G49)*('Entrada de dades '!I47/'Entrada de dades '!H49)),"",(('Entrada de dades '!H49-'Entrada de dades '!G49)*('Entrada de dades '!I47/'Entrada de dades '!H49))) | H11: =IF(ISERROR((F11*'Factors de conversió i emissió '!D20)/1000),"",((F11*'Factors de conversió i emissió '!D20))/1000)
B14: Compromís de retorn ELECTRICITAT | D14: =(IF(C11<0,C11/2,"No hi ha hagut estalvi")) -> No hi ha hagut estalvi | F14: Compromís de retorn COMBUSTIBLE | H14: =IFERROR(IF(G11<0,(G11/2),"No hi ha hagut estalvi"),0) -> No hi ha hagut estalvi
D18: Estalvi total | F18: =IFERROR(IF((C11)+(G11)>0,"No hi ha estalvi",((C11)+G11)),"")
D19: Retorn a l'escola | F19: =IFERROR(IF(F18/2<"0","No hi ha retorn",F18/2),"")
P21: Atenció!!! Si a l'estalvi aconseguit teniu una xifra negativa vol dir que no heu estalviat!!!!

Sheet Llistat municipis
A1: Nom | B1: alçada municipi | C1: Comarca | D1: Estació meteorològica de referència | E1: 2016/2017 | F1: 2017/2018 | G1: 2018/2019 | H1: 2020/2021 | I1: 2021/2022
A2: Abrera | B2: 105 | C2: Baix Llobregat | D2: Vallirana
A3: Aguilar de Segarra | B3: 480 | C3: Bages | D3: Castellnou del Bages | E3: 4278.8 | F3: 4540.7 | G3: 4356.4 | H3: 4297.7 | I3: 4335.4
A4: Alella | B4: 90 | C4: Maresme | D4: Cabrils
A5: Alpens | B5: 855 | C5: Osona | D5: Perafita
A6: l'Ametlla del Vallès | B6: 281 | C6: Vallès Oriental | D6: Caldes de Montbui | E6: 4130.1 | F6: 4258.9 | G6: 4129.4 | H6: 3997.9 | I6: 4133.1
A7: Arenys de Mar | B7: 10 | C7: Maresme | D7: Cabrils
A8: Arenys de Munt | B8: 121 | C8: Maresme | D8: Cabrils
A9: Argençola | B9: 716 | C9: Anoia | D9: Òdena
A10: Argentona | B10: 88 | C10: Maresme | D10: Cabrils
A11: Artés | B11: 316 | C11: Bages | D11: Artés | E11: 4409.1 | F11: 4632.5 | G11: 4474.2 | H11: 4377.5 | I11: 4498.9
A12: Avià | B12: 677 | C12: Berguedà | D12: La Quar
A13: Avinyó | B13: 353 | C13: Bages | D13: Artés | E13: 4409.1 | F13: 4632.5 | G13: 4474.2 | H13: 4377.5 | I13: 4498.9
A14: Avinyonet del Penedès | B14: 280 | C14: Alt Penedès | D14: la Granada
A15: Aiguafreda | B15: 404 | C15: Vallès Oriental | D15: Caldes de Montbui | E15: 4130.1 | F15: 4258.9 | G15: 4129.4 | H15: 3997.9 | I15: 4133.1
A16: Badalona | B16: 6 | C16: Barcelonès | D16: Barcelona el raval | E16: 3504.5 | F16: 3656.9 | G16: 3522.3 | H16: 3576.3 | I16: 3568.6
A17: Bagà | B17: 785 | C17: Berguedà | D17: Guardiola de Berguedà
A18: Balenyà | B18: 587 | C18: Osona | D18: Gurb
A19: Balsareny | B19: 327 | C19: Bages | D19: Artés | E19: 4409.1 | F19: 4632.5 | G19: 4474.2 | H19: 4377.5 | I19: 4498.9
A20: Barcelona | B20: 13 | C20: Barcelonès | D20: Barcelona el Raval | E20: 3504.5 | F20: 3656.9 | G20: 3522.3 | H20: 3576.3 | I20: 3568.6
A21: Begues | B21: 399 | C21: Baix Llobregat | D21: Viladecans | E21: 3779.4 | F21: 3932.6 | G21: 3842.2 | H21: 3789.6 | I21: 3867.9
A22: Bellprat | B22: 653 | C22: Anoia | D22: Òdena
A23: Berga | B23: 704 | C23: Berguedà | D23: Guardiola de Berguedà
A24: Bigues i Riells | B24: 307 | C24: Vallès Oriental | D24: Caldes de Montbui | E24: 4130.1 | F24: 4258.9 | G24: 4129.4 | H24: 3997.9 | I24: 4133.1
A25: Borredà | B25: 854 | C25: Berguedà | D25: La Quar
A26: el Bruc | B26: 489 | C26: Anoia | D26: els Hostalets de Pierola
A27: el Brull | B27: 843 | C27: Osona | D27: Muntanyola
A28: les Cabanyes | B28: 252 | C28: Alt Penedès | D28: La Granada
A29: Cabrera d'Anoia | B29: 299 | C29: Anoia | D29: Canaletes
A30: Cabrera de Mar | B30: 104 | C30: Maresme | D30: Cabrils
A31: Cabrils | B31: 147 | C31: Maresme | D31: Cabrils
A32: Calaf | B32: 680 | C32: Anoia | D32: Òdena
A33: Caldes d'Estrac | B33: 33 | C33: Maresme | D33: Cabrils
A34: Caldes de Montbui | B34: 203 | C34: Vallès Oriental | D34: Caldes de Montbui | E34: 4130.1 | F34: 4258.9 | G34: 4129.4 | H34: 3997.9 | I34: 4133.1
A35: Calders | B35: 552 | C35: Bages | D35: Artés | E35: 4409.1 | F35: 4632.5 | G35: 4474.2 | H35: 4377.5 | I35: 4498.9
A36: Calella | B36: 5 | C36: Maresme | D36: Malgrat de Mar
A37: Calonge de Segarra | B37: 688 | C37: Anoia | D37: Òdena
A38: Calldetenes | B38: 489 | C38: Osona | D38: Gurb
A39: Callús | B39: 260 | C39: Bages | D39: Artés | E39: 4409.1 | F39: 4632.5 | G39: 4474.2 | H39: 4377.5 | I39: 4498.9
A40: Campins | B40: 321 | C40: Vallès Oriental | D40: Vilanova del Vallès | E40: 4214.4 | F40: 4429.8 | G40: 4288.3 | H40: 4156.8 | I40: 4262.2
...

Sheet Factors de conversió i emissió 
B8: 1. FACTORS DE CONVERSIÓ PER PASSAR D'UNITATS TÈRMIQUES A kWh*
D10: kWh
C11: 1 KG estella forestal | D11: 3.5
C12: 1 litre de gasoil | D12: 8.75
C13: 1 kg de propà | D13: 13.385
C14: 1 bombona de butà (12,5l) | D14: 150
B16: 2. FACTORS D'EMISSIÓ PER CALCULAR LES EMISIONS DE GASOS D'EFECTE HIVERNACLE EN EL CONSUM DE COMBUSTIBLE*
C18: Combustible | D18: Factor d’emissió estàndard
D19: kgCO2/kWh
C20: Gas natural | D20: 0.202
C21: Fueloil | D21: 0.279
C22: Gasolina | D22: 0.249
C23: Gas-oil | D23: 0.267
C24: GLP | D24: 0.227
B26: 3. FACTORS D'EMISSIÓ PER CALCULAR LES EMISIONS DE GASSOS D'EFECTE HIVERNACLE EN EL CONSUM D'ELECTRICITA*
C28: Any | D28: Mix elèctric g. CO2 /kWh
C29: 2020 | D29: 0.22
